BEGIN:VCALENDAR
VERSION:2.0
PRODID:-//Tukios.com/
BEGIN:VEVENT
UID:e0d07964-98bd-4467-b2d4-f3454df83d2c@www.walterfunerals.com
DTSTAMP:20260419T194219Z
DTSTART:20260422T160000Z
DTEND:20260422T180000Z
SUMMARY:Visitation
DESCRIPTION:
URL:https://www.walterfunerals.com/obituaries/caryl-boldman
LOCATION:Walter and Lewis Funeral Home 642 South Main Street  Urbana OH 
	43078
GEO:40.1008422;-83.753738
END:VEVENT
END:VCALENDAR