BEGIN:VCALENDAR
VERSION:2.0
PRODID:-//Tukios.com/
BEGIN:VEVENT
UID:fa18b82e-41d3-4f5f-88a0-458f54273cf0@www.walterfunerals.com
DTSTAMP:20260419T194219Z
DTSTART:20260422T180000Z
DTEND:20260422T190000Z
SUMMARY:Funeral Service
DESCRIPTION:
URL:https://www.walterfunerals.com/obituaries/caryl-boldman
LOCATION:Walter and Lewis Funeral Home 642 South Main Street  Urbana OH 
	43078
GEO:40.1008422;-83.753738
END:VEVENT
END:VCALENDAR