BEGIN:VCALENDAR
VERSION:2.0
PRODID:-//Tukios.com/
BEGIN:VEVENT
UID:bf7cdcb3-150a-4b3d-acaa-fc3236b886d9@www.walterfunerals.com
DTSTAMP:20260422T205737Z
DTSTART:20260502T190000Z
DTEND:20260502T200000Z
SUMMARY:Memorial Gathering
DESCRIPTION:
URL:https://www.walterfunerals.com/obituaries/mary-kerkhove
LOCATION: 700 State Route 54  Urbana OH 43078
GEO:40.0994182;-83.7330916
END:VEVENT
END:VCALENDAR